BEGIN:VCALENDAR
VERSION:2.0
PRODID:-//wp-events-plugin.com//7.2.3.1//EN
TZID:Europe/Berlin
X-WR-TIMEZONE:Europe/Berlin
BEGIN:VEVENT
UID:94@lize.info
DTSTART;TZID=Europe/Berlin:20231110T190000
DTEND;TZID=Europe/Berlin:20231110T220000
DTSTAMP:20231106T130259Z
URL:https://lize.info/events/vortrag-zur-reichsprogromnacht-von-luise-gutm
 ann-vvn-bda/
SUMMARY:Vortrag zur Reichsprogromnacht von Luise Gutmann (VVN-BdA)
DESCRIPTION:Am 09.11. jährt sich die Reichspogromnacht zum 85. Mal. Vom 9.
  auf den 10. November 1938 wurden in ganz Deutschland und Österreich Syna
 gogen\, jüdische Geschäfte und Wohnungen organisiert geplündert und dab
 ei Jüd*innen misshandelt und ermordet. Dieses brutale Vorgehen manifestie
 rte die antisemitische Haltung des Nazi-Regimes.\nLuise Gutmann von VVN-Bd
 A hält beim diesmaligen Antifa-Abend einen Vortrag bzw. Workshop in Geden
 ken an die Reichspogromnacht in Regensburg.\n\nDie Veranstaltung findet am
  Freitag den 10.11. um 19 Uhr im LiZe (Dahlienweg 2a) statt. Einlass 18 Uh
 r.\n\nAnschließend geht es wie immer mit einer gemütlichen Bar-Runde wei
 ter 🙂\n\n~AFARegensburg
CATEGORIES:Vortrag
END:VEVENT
BEGIN:VTIMEZONE
TZID:Europe/Berlin
X-LIC-LOCATION:Europe/Berlin
BEGIN:STANDARD
DTSTART:20231029T020000
TZOFFSETFROM:+0200
TZOFFSETTO:+0100
TZNAME:CET
END:STANDARD
END:VTIMEZONE
END:VCALENDAR