BEGIN:VCALENDAR
VERSION:2.0
PRODID:-//wp-events-plugin.com//7.2.3.1//EN
TZID:Europe/Berlin
X-WR-TIMEZONE:Europe/Berlin
BEGIN:VEVENT
UID:141@lize.info
DTSTART;TZID=Europe/Berlin:20240828T190000
DTEND;TZID=Europe/Berlin:20240828T220000
DTSTAMP:20240821T211220Z
URL:https://lize.info/events/vereinte-patrioten/
SUMMARY:„Vereinte Patrioten“: Umsturz mit „Ariernachweis“ - Radikal
 isierung bis zum Putsch
DESCRIPTION:\n\nSeit Mai 2023 müssen sich fünf Angeklagte (darunter eine 
 Person aus dem Landkreis Landshut) wegen mutmaßlicher Gründung bzw. Mitg
 liedschaft in einer terroristischen Vereinigung vor dem OLG Koblenz verant
 worten. Im Oktober 2023 wurden fünf weitere Mitglieder der mutmaßlichen 
 Gruppierung verhaftet. Das Netzwerk ist jedoch weitaus größer. Mit dem Z
 iel der Wiedereinsetzung der Verfassung von 1871 planten sie einen Sturz d
 er Regierung.\n\n\n\n\n\n\nDer Vortrag analysiert das Milieu wie auch die 
 Bedingungen\, in welchem sich die Angeklagten in rasanter Weise radikalisi
 erten. Welche Rolle spielt hierbei die Reichsbürgerideologie? In welchen 
 Netzwerken waren sie eingebunden? Und wie realistisch waren ihre Planungen
 ? Und vor welchen Herausforderungen stehen zivilgesellschaftliche Akteur*i
 nnen bei diesem Täter*innen-Typus?\n\n\n\n\n\nReferent: Ronny Junghaus\n\
 nVeranstalter*in: https://aginput.org/vereinte-patrioten/\n\n
ATTACH;FMTTYPE=image/jpeg:https://lize.info/wp-content/uploads/2024/08/ima
 ge.jpeg
CATEGORIES:Vortrag
END:VEVENT
BEGIN:VTIMEZONE
TZID:Europe/Berlin
X-LIC-LOCATION:Europe/Berlin
BEGIN:DAYLIGHT
DTSTART:20240331T030000
TZOFFSETFROM:+0100
TZOFFSETTO:+0200
TZNAME:CEST
END:DAYLIGHT
END:VTIMEZONE
END:VCALENDAR