BEGIN:VCALENDAR
VERSION:2.0
PRODID:-//wp-events-plugin.com//7.2.3.1//EN
TZID:Europe/Berlin
X-WR-TIMEZONE:Europe/Berlin
BEGIN:VEVENT
UID:275@lize.info
DTSTART;TZID=Europe/Berlin:20251218T193000
DTEND;TZID=Europe/Berlin:20251218T220000
DTSTAMP:20251208T074604Z
URL:https://lize.info/events/solikonzert-mit-parkpunk/
SUMMARY:Solikonzert mit ParkPunk
DESCRIPTION:Soli-Konzert mit Park Punk\n\n🗓 Donnerstag\, 18.12.2025\n
 🕗 20:00 Uhr\, Einlass 19:30 Uhr\n📍 LiZe Regensburg\, Dahlienweg\n
 🎟 Eintritt gegen Spende\n\nNach Ronja Künstler &amp\; Friends im Akuso
 \, dem Soli Rave mit Pavo Royal\, Sveima\, Milam und Cardio Caro in der Al
 ten Filmbühne\, geht’s nun ins LiZe!\n\nKommt vorbei\, feiert gemeinsam
  mit Park Punk und unterstützt lokale Strukturen!\n\n💥 Die Spenden geh
 en dieses Mal an SoliAsyl Regensburg\, die sich aktiv für Schutzräume f
 ür geflüchtete Menschen einsetzen. Bleiberecht für alle!\n\n🍻 Drinks
  und Snacks gibt’s vor Ort – auch hier freuen wir uns über Solispende
 n!\n\n👉 Seid dabei\, bringt eure Freund*innen mit und setzt gemeinsam e
 in Zeichen für praktische Solidarität! 💪❤️‍🔥\n\n!Achtung! Au
 ch die Kartentausch Initiative wird vor Ort sein. Bringt also genügend Ba
 rgeld mit :)
CATEGORIES:Party
END:VEVENT
BEGIN:VTIMEZONE
TZID:Europe/Berlin
X-LIC-LOCATION:Europe/Berlin
BEGIN:STANDARD
DTSTART:20251026T020000
TZOFFSETFROM:+0200
TZOFFSETTO:+0100
TZNAME:CET
END:STANDARD
END:VTIMEZONE
END:VCALENDAR