BEGIN:VCALENDAR
VERSION:2.0
PRODID:-//wp-events-plugin.com//7.2.3.1//EN
TZID:Europe/Berlin
X-WR-TIMEZONE:Europe/Berlin
BEGIN:VEVENT
UID:108@lize.info
DTSTART;TZID=Europe/Berlin:20231223T180000
DTEND;TZID=Europe/Berlin:20231223T220000
DTSTAMP:20231219T170124Z
URL:https://lize.info/events/offener-thekenabend-resi-e-v/
SUMMARY:Offener Thekenabend (RESI e.V.)
DESCRIPTION:Offener Thekenabend der RESI e.V. (Regensburger Schwulen-und Le
 sbeninitiative - Verein gegen Diskriminierung und Homosexualität)
ATTACH;FMTTYPE=image/jpeg:https://lize.info/wp-content/uploads/2023/12/Scr
 eenshot-2023-12-19-at-17-27-38-Zentrum.png
END:VEVENT
BEGIN:VTIMEZONE
TZID:Europe/Berlin
X-LIC-LOCATION:Europe/Berlin
BEGIN:STANDARD
DTSTART:20231029T020000
TZOFFSETFROM:+0200
TZOFFSETTO:+0100
TZNAME:CET
END:STANDARD
END:VTIMEZONE
END:VCALENDAR