BEGIN:VCALENDAR
VERSION:2.0
PRODID:-//wp-events-plugin.com//7.2.3.1//EN
TZID:Europe/Berlin
X-WR-TIMEZONE:Europe/Berlin
BEGIN:VEVENT
UID:92@lize.info
DTSTART;TZID=Europe/Berlin:20241122T180000
DTEND;TZID=Europe/Berlin:20241122T230000
DTSTAMP:20241030T071911Z
URL:https://lize.info/events/offener-freitag-im-lize-2-2024-11-01/
SUMMARY:offener Freitag im Lize
DESCRIPTION:Freitagscafé im LiZe: nette Leute\, geiles Essen. Alles gegen 
 Spende.\n\nJeden 1. Freitag im Monat. Im November ausnahmsweise nicht sond
 ern am 22.11.
ATTACH;FMTTYPE=image/jpeg:https://lize.info/wp-content/uploads/2016/05/fre
 itag-flyer-front-3-e1709301838132.jpg
CATEGORIES:offenes Treffen
END:VEVENT
BEGIN:VTIMEZONE
TZID:Europe/Berlin
X-LIC-LOCATION:Europe/Berlin
BEGIN:STANDARD
DTSTART:20241027T020000
TZOFFSETFROM:+0200
TZOFFSETTO:+0100
TZNAME:CET
END:STANDARD
END:VTIMEZONE
END:VCALENDAR