BEGIN:VCALENDAR
VERSION:2.0
PRODID:-//wp-events-plugin.com//7.2.3.1//EN
TZID:Europe/Berlin
X-WR-TIMEZONE:Europe/Berlin
BEGIN:VEVENT
UID:83@lize.info
DTSTART;TZID=Europe/Berlin:20240202T180000
DTEND;TZID=Europe/Berlin:20240202T230000
DTSTAMP:20231217T100658Z
URL:https://lize.info/events/offener-freitag-im-lize-2-2024-02-02/
SUMMARY:offener Freitag im Lize
DESCRIPTION:Freitagscafé im LiZe: nette Leute\, geiles Essen. Alles gegen 
 Spende.\n\nJeden 1. Freitag im Monat.
ATTACH;FMTTYPE=image/jpeg:https://lize.info/wp-content/uploads/2016/05/fre
 itag-flyer-front-3-e1709301838132.jpg
CATEGORIES:offenes Treffen
END:VEVENT
BEGIN:VTIMEZONE
TZID:Europe/Berlin
X-LIC-LOCATION:Europe/Berlin
BEGIN:STANDARD
DTSTART:20231029T020000
TZOFFSETFROM:+0200
TZOFFSETTO:+0100
TZNAME:CET
END:STANDARD
END:VTIMEZONE
END:VCALENDAR