BEGIN:VCALENDAR
VERSION:2.0
PRODID:-//wp-events-plugin.com//7.2.3.1//EN
TZID:Europe/Berlin
X-WR-TIMEZONE:Europe/Berlin
BEGIN:VEVENT
UID:98@lize.info
DTSTART;TZID=Europe/Berlin:20230523T180000
DTEND;TZID=Europe/Berlin:20230523T220000
DTSTAMP:20231103T135226Z
URL:https://lize.info/events/oat-offenes-antifa-treffen-2/
SUMMARY:OAT - Offenes Antifa Treffen
DESCRIPTION:Du hast Lust\, dich gegen rechts zu engagieren? Vielfältige Ak
 tionen zu planen\, u.a. um der Afd den Wahlkampf so richtig zu vermiesen?\
 n\nDann schau gerne beim nächsten offenen Antifa-Treffen am Dienstag\, de
 m 25.4. um 18 Uhr ins Lize (Dahlienweg 2a)!\n\nFür einen konsequenten Ant
 ifaschismus und ein nazifreies Regensburg! ✊\n\nQuelle: http://instagra
 m.com/afaregensburg/
ATTACH;FMTTYPE=image/jpeg:https://lize.info/wp-content/uploads/2023/04/Cle
 anShot-2023-04-23-at-10.34.28.png
CATEGORIES:offenes Treffen
END:VEVENT
BEGIN:VTIMEZONE
TZID:Europe/Berlin
X-LIC-LOCATION:Europe/Berlin
BEGIN:DAYLIGHT
DTSTART:20230326T030000
TZOFFSETFROM:+0100
TZOFFSETTO:+0200
TZNAME:CEST
END:DAYLIGHT
END:VTIMEZONE
END:VCALENDAR