BEGIN:VCALENDAR
VERSION:2.0
PRODID:-//wp-events-plugin.com//7.2.3.1//EN
TZID:Europe/Berlin
X-WR-TIMEZONE:Europe/Berlin
BEGIN:VEVENT
UID:154@lize.info
DTSTART;TZID=Europe/Berlin:20241202T150000
DTEND;TZID=Europe/Berlin:20241202T170000
DTSTAMP:20241219T112104Z
URL:https://lize.info/events/kartentausch/
SUMMARY:Kartentausch
DESCRIPTION:Mehr Infos: https://www.kartentausch-regensburg.de/
ATTACH;FMTTYPE=image/jpeg:https://lize.info/wp-content/uploads/2024/11/Kar
 tentausch.png
END:VEVENT
BEGIN:VTIMEZONE
TZID:Europe/Berlin
X-LIC-LOCATION:Europe/Berlin
BEGIN:STANDARD
DTSTART:20241027T020000
TZOFFSETFROM:+0200
TZOFFSETTO:+0100
TZNAME:CET
END:STANDARD
END:VTIMEZONE
END:VCALENDAR