BEGIN:VCALENDAR
VERSION:2.0
PRODID:-//wp-events-plugin.com//7.2.3.1//EN
TZID:Europe/Berlin
X-WR-TIMEZONE:Europe/Berlin
BEGIN:VEVENT
UID:102@lize.info
DTSTART;TZID=Europe/Berlin:20230122T190000
DTEND;TZID=Europe/Berlin:20230122T210000
DTSTAMP:20231213T161547Z
URL:https://lize.info/events/judenhass-underground-antisemitismus-in-emanz
 ipatorischen-subkulturen-und-bewegungen/
SUMMARY:Judenhass Underground – Antisemitismus in emanzipatorischen Subku
 lturen und Bewegungen.
DESCRIPTION:Der Vortrag wird die unterschiedlichen Begründungsmuster antiz
 ionistischer Propaganda nachzeichnen und die aktuellen Konstellationen nac
 h der Hamas-Vernichtungsaktion vom 7. Oktober unter besonderer Berücksich
 tigung des iranischen Regimes skizzieren\, und in einer Kritik an einem ab
 strakten Antinationalismus und postkolonialen Pseudoantirassismus die Soli
 darität mit Israel als Voraussetzung für jegliche auf Emanzipation ziele
 nde Anstrengung ausweisen.
ATTACH;FMTTYPE=image/jpeg:https://lize.info/wp-content/uploads/2023/12/agi
 nputibjkaa.png
CATEGORIES:Vortrag
END:VEVENT
BEGIN:VTIMEZONE
TZID:Europe/Berlin
X-LIC-LOCATION:Europe/Berlin
BEGIN:STANDARD
DTSTART:20221030T020000
TZOFFSETFROM:+0200
TZOFFSETTO:+0100
TZNAME:CET
END:STANDARD
END:VTIMEZONE
END:VCALENDAR