BEGIN:VCALENDAR
VERSION:2.0
PRODID:-//wp-events-plugin.com//7.2.3.1//EN
TZID:Europe/Berlin
X-WR-TIMEZONE:Europe/Berlin
BEGIN:VEVENT
UID:41@lize.info
DTSTART;TZID=Europe/Berlin:20230516T190000
DTEND;TZID=Europe/Berlin:20230516T210000
DTSTAMP:20230404T151316Z
URL:https://lize.info/events/herumtreiberei-und-liederlicher-lebenswandel-
 geschichte-und-kontinuitaet-des-stigma-asozial/
SUMMARY:„Herumtreiberei“ und „Liederlicher Lebenswandel“ - Geschich
 te und Kontinuität des Stigma „Asozial“
DESCRIPTION:„Herumtreiberei“ und „Liederlicher Lebenswandel“ - Gesc
 hichte und Kontinuität des Stigma „Asozial“ - Vortrag von Dr.in Chris
 ta Schikorra \n\n\n\nLiebe Genoss*innen\, Mitstreiter*innen und Freund*inn
 en\,\n\nwir möchten euch ganz herzlich zu unserer Themen-Reihe zu Frauen 
 und\nqueeren Menschen im NS einladen im Mai und Juni diesen Jahres einlade
 n:\n\n06.05.23/ 10-16 Uhr im Lize Regensburg: „Volksgenossinnen“ - Fra
 uen als\nMitläuferinnen und Täterinnen im Nationalsozialismus - Workshop
  mit\nElisabeth Perzl (Anmeldung via Mail erforderlich) \n10.05.23/ 18:30 
 via Zoom: „Die Verfolgung von Männern\, Frauen und\nTrans*Personen wege
 n homosexueller Handlungen in der NS-Zeit“ -\nOnline-Vortrag von Andreas
  Brunner (Link nach Anmeldung via Mail)\n16.05.23/ 19 Uhr im Lize Regensbu
 rg: „Herumtreiberei“ und „Liederlicher\nLebenswandel“ - Geschichte
  und Kontinuität des Stigma „Asozial“ -\nVortrag von Dr.in Christa Sc
 hikorra \n02. - 04.06.: Bildungsfahrt zur Mahn- und Gedenkstätte Ravensbr
 ück\ninklusive gemeinsamer Anreise (Anmeldung erforderlich) \n\nWeitere I
 nfos findet ihr im Flyer. Im Anhang befinden sich zudem die\nFolien zur Be
 werbung der Veranstaltung - sharing is caring\, wir danken\nfür eure Unte
 rstützung 😄\n\nFeministische Grüße!\nEure e.wis
ATTACH;FMTTYPE=image/jpeg:https://lize.info/wp-content/uploads/2023/04/Fol
 ie-4.jpeg
CATEGORIES:Vortrag
END:VEVENT
BEGIN:VTIMEZONE
TZID:Europe/Berlin
X-LIC-LOCATION:Europe/Berlin
BEGIN:DAYLIGHT
DTSTART:20230326T030000
TZOFFSETFROM:+0100
TZOFFSETTO:+0200
TZNAME:CEST
END:DAYLIGHT
END:VTIMEZONE
END:VCALENDAR