BEGIN:VCALENDAR
VERSION:2.0
PRODID:-//wp-events-plugin.com//7.2.3.1//EN
TZID:Europe/Berlin
X-WR-TIMEZONE:Europe/Berlin
BEGIN:VEVENT
UID:142@lize.info
DTSTART;TZID=Europe/Berlin:20240925T190000
DTEND;TZID=Europe/Berlin:20240925T220000
DTSTAMP:20240821T211430Z
URL:https://lize.info/events/fuenf-jahre-danach-notwendige-konsequenzen-un
 d-anhaltende-kaempfe-nach-dem-halle-attentat/
SUMMARY:Fünf Jahre danach - Notwendige Konsequenzen und anhaltende Kämpfe
  nach dem Halle-Attentat
DESCRIPTION:\n\nSeit dem Halle-Attentat am 9. Oktober\, nach jüdischem Kal
 ender Yom Kippur 5780\, sind fünf Jahre vergangen. Die Überlebenden und 
 Hinterbliebenen kämpften während des Prozesses für Anerkennung\nund ges
 ellschaftspolitische Konsequenzen. Trotzdem werden sie noch heute von staa
 tlicher Seite vernachlässigt\, degradiert und schikaniert. Christina Feis
 t erzählt von kleinen Schritten und Erfolgen\, aber auch von Rückschläg
 en und Enttäuschungen. Wie kann ein Weg in eine Zukunft aussehen\, die un
 s allen gehört? Und was hat der 7. Oktober 2023 damit zu tun?\nChristina 
 Feist\, ursprünglich aus Wien\, ist promovierte Philosophin und Historike
 rin und Überlebende von Halle. Sie engagiert sich für die Rechte und Bed
 ürfnisse von Betroffenen rechtsterroristischer Attentate und referiert ü
 ber rechtsterroristische Attentate und ihre eigenen Erfahrungen.\n\n\n\n\n
 Referentin: Christina Feist\n\n\n\n\n\n\n\nVeranstalter*in: https://aginpu
 t.org/5-jahre-nach-halle/\n\n\n
ATTACH;FMTTYPE=image/jpeg:https://lize.info/wp-content/uploads/2024/08/ima
 ge-1.jpeg
CATEGORIES:Vortrag
END:VEVENT
BEGIN:VTIMEZONE
TZID:Europe/Berlin
X-LIC-LOCATION:Europe/Berlin
BEGIN:DAYLIGHT
DTSTART:20240331T030000
TZOFFSETFROM:+0100
TZOFFSETTO:+0200
TZNAME:CEST
END:DAYLIGHT
END:VTIMEZONE
END:VCALENDAR