BEGIN:VCALENDAR
VERSION:2.0
PRODID:-//wp-events-plugin.com//7.2.3.1//EN
TZID:Europe/Berlin
X-WR-TIMEZONE:Europe/Berlin
BEGIN:VEVENT
UID:45@lize.info
DTSTART;TZID=Europe/Berlin:20230713T190000
DTEND;TZID=Europe/Berlin:20230713T220000
DTSTAMP:20230606T141117Z
URL:https://lize.info/events/film-liebe-und-revolution/
SUMMARY:Film „Liebe und Revolution“
DESCRIPTION:Im Rahmen der Veranstaltungsreihe zur Bewegung in Griechenland 
 von der Anarchistischen Gruppe\n\nFlyer: ana_griechenland (Klick mich)\n\n
 “Die europäischen Medien behaupten\, dass die Politik der Sparmaßnahme
 n in Griechenland ein Erfolgwar und Ruhe eingekehrt ist. Dieser Film bewei
 st das Gegenteil. Eine musikalische Reise vom Norden in den Süden Grieche
 nlands mit denMenschen\, die von Liebe und Revolution träumen.”
END:VEVENT
BEGIN:VTIMEZONE
TZID:Europe/Berlin
X-LIC-LOCATION:Europe/Berlin
BEGIN:DAYLIGHT
DTSTART:20230326T030000
TZOFFSETFROM:+0100
TZOFFSETTO:+0200
TZNAME:CEST
END:DAYLIGHT
END:VTIMEZONE
END:VCALENDAR