BEGIN:VCALENDAR
VERSION:2.0
PRODID:-//wp-events-plugin.com//7.2.3.1//EN
TZID:Europe/Berlin
X-WR-TIMEZONE:Europe/Berlin
BEGIN:VEVENT
UID:53@lize.info
DTSTART;TZID=Europe/Berlin:20230927T190000
DTEND;TZID=Europe/Berlin:20230927T220000
DTSTAMP:20230712T195442Z
URL:https://lize.info/events/die-afd-und-die-soziale-frage-zwischen-marktr
 adikalismus-und-voelkischem-antikapitalismus/
SUMMARY:Die AfD und die soziale Frage - Zwischen Marktradikalismus Und Völ
 kischem Antikapitalismus
DESCRIPTION:\n\n\n\nIn der extrem rechten Partei „Alternative für Deutsc
 hland“ (AfD) stehen sich ein zunehmend offen faschistisch auftretender p
 seudo-„antikapitalistischer“ und ein radikal neoliberaler Flügel gege
 nüber. Vor einem Jahr schien es noch\, als könnte die AfD wegen der dami
 t verbundenen Differenzen ihren Zenit bereits überschritten haben. Die ak
 tuellen Wahlumfragen und Ergebnisse zeigen indes ein anderes Bild. \n\nDo
 ch wie sieht die aktuelle sozial- und wirtschaftspolitische Programmatik d
 er AfD vor dem Hintergrund des Kräftezerrens zwischen Marktradikalen und 
 völkischen Nationalisten aus?\n\n\n\n\n\n\nReferent: Stefan Dietl\n\nMehr
  Infos: https://aginput.org/soziale-frage-afd/\n\n
ATTACH;FMTTYPE=image/jpeg:https://lize.info/wp-content/uploads/2023/07/ima
 ge-1-e1689191453935.png
CATEGORIES:Vortrag
END:VEVENT
BEGIN:VTIMEZONE
TZID:Europe/Berlin
X-LIC-LOCATION:Europe/Berlin
BEGIN:DAYLIGHT
DTSTART:20230326T030000
TZOFFSETFROM:+0100
TZOFFSETTO:+0200
TZNAME:CEST
END:DAYLIGHT
END:VTIMEZONE
END:VCALENDAR