BEGIN:VCALENDAR
VERSION:2.0
PRODID:-//wp-events-plugin.com//7.2.3.1//EN
TZID:Europe/Berlin
X-WR-TIMEZONE:Europe/Berlin
BEGIN:VEVENT
UID:116@lize.info
DTSTART;TZID=Europe/Berlin:20240626T190000
DTEND;TZID=Europe/Berlin:20240626T220000
DTSTAMP:20240115T204546Z
URL:https://lize.info/events/david-begrich-die-afd-als-lega-ost/
SUMMARY:David Begrich - Die AfD als „Lega Ost“?
DESCRIPTION:Referent*in: David Begrich\n\nIn manchen Umfragen steht die AfD
  in Ostdeutschland bei knapp 30 Prozent. Obwohl ihre Funktions- und Mandat
 sträger*innen offen extrem rechts auftreten\, ist die Partei im öffentli
 chen Diskurs in Ostdeutschland weitgehend normalisiert. Ihre Provokationen
  und Tabubrüche sind keine Aufreger mehr. Die Partei profitiert vom Erbe 
 rechter Hegemoniearbeit der 1990er Jahre\, der Politik der NPD im sächsis
 chen Parlament und von Kampagnen gegen Geflüchtete seit 2015.\n\nDer Vort
 rag geht der Frage der Ursachen des Erfolgs der AfD im Osten nach\, beleuc
 htet die Situation der kritischen Zivilgesellschaft und fragt nach Strateg
 ien für den nicht unwahrscheinlichen Fall\, dass die AfD im Osten bald ei
 nen Zipfel der Macht in einzelnen Regionen in der Hand halten könnte.\n\n
 Veranstaltung von AG Input
CATEGORIES:Vortrag
END:VEVENT
BEGIN:VTIMEZONE
TZID:Europe/Berlin
X-LIC-LOCATION:Europe/Berlin
BEGIN:DAYLIGHT
DTSTART:20240331T030000
TZOFFSETFROM:+0100
TZOFFSETTO:+0200
TZNAME:CEST
END:DAYLIGHT
END:VTIMEZONE
END:VCALENDAR