BEGIN:VCALENDAR
VERSION:2.0
PRODID:-//wp-events-plugin.com//7.2.3.1//EN
TZID:Europe/Berlin
X-WR-TIMEZONE:Europe/Berlin
BEGIN:VEVENT
UID:124@lize.info
DTSTART;TZID=Europe/Berlin:20240504T150000
DTEND;TZID=Europe/Berlin:20240504T220000
DTSTAMP:20240411T170332Z
URL:https://lize.info/events/das-lize-feiert-geburtstag-9-jahre-theorie-un
 d-praxis/
SUMMARY:Das LiZe feiert Geburtstag! 9 Jahre Theorie und Praxis.
DESCRIPTION:Das LiZe feiert Geburtstag!\n9 Jahre Theorie und Praxis\n\nIm L
 iZe ist immer viel los: Vorträge\, Workshops\, Gruppentreffen\, Aktionsvo
 rbereitungen\, Kneipenabende usw.\n\nNur: Partys gibt es selten. Zum 9. Ge
 burtstag des LiZe wollen wir deshalb mal wieder richtig feiern. Am liebste
 n gemeinsam mit euch allen: Den aktiven Gruppen\, Mitgliedern\, Unterstüt
 zer*innen\, Freund*innen und Interessierten. Also hoch die Gläser\, auf v
 iele weitere Jahre ausprobieren\, scheitern\, lernen und solidarisch weite
 rmachen.\n\nWir kümmern uns um Veganes vom Grill. Für das Buffet freuen 
 wir uns über Kuchen\, Salate\, Dips etc.\n\nSamstag / 4. Mai / ab 15:00 U
 hr
ATTACH;FMTTYPE=image/jpeg:https://lize.info/wp-content/uploads/2024/04/9-j
 ahre-lize.jpeg
CATEGORIES:offenes Treffen
END:VEVENT
BEGIN:VTIMEZONE
TZID:Europe/Berlin
X-LIC-LOCATION:Europe/Berlin
BEGIN:DAYLIGHT
DTSTART:20240331T030000
TZOFFSETFROM:+0100
TZOFFSETTO:+0200
TZNAME:CEST
END:DAYLIGHT
END:VTIMEZONE
END:VCALENDAR