BEGIN:VCALENDAR
VERSION:2.0
PRODID:-//wp-events-plugin.com//7.2.3.1//EN
TZID:Europe/Berlin
X-WR-TIMEZONE:Europe/Berlin
BEGIN:VEVENT
UID:56@lize.info
DTSTART;TZID=Europe/Berlin:20230720T183000
DTEND;TZID=Europe/Berlin:20230720T220000
DTSTAMP:20230718T102218Z
URL:https://lize.info/events/antifa-stammtisch-mit-vortrag-zu-elly-maldaqu
 e/
SUMMARY:Antifa Stammtisch (mit Vortrag zu Elly Maldaque)
DESCRIPTION:"Wie euch vermutlich schon aufgefallen ist\, findet unser Stamm
 tisch dieses mal an einem Donnerstag statt dem üblichen Freitag statt.\nD
 as hat einen guten Grund: am 20. jährt sich nämlich der Todestag Elly Ma
 ldaques\, der ersten von der NSDAP ermordeten Regensburgerin.\n\nAus diese
 m Grund wollen wir ihr auch dieses Jahr unseren Stammtisch mit einem Vortr
 ag zu ihrem Leben und Tod von Kurt Raster widmen.\n\nUnser Programm beginn
 t dabei wie immer um 19 Uhr\, mit "Einlass" um 18:30 im LiZe und einer gem
 ütlichen Barrunde im Anschluss\, also falls ihr an dem Tag noch nichts zu
  tun habt\, und euch eventuell auch schon länger mal links vernetzen woll
 tet: schaut gern vorbei :)"\nOrganisiert von https://afar.noblogs.org/
ATTACH;FMTTYPE=image/jpeg:https://lize.info/wp-content/uploads/2023/07/Scr
 eenshot-2023-07-18-at-12-20-23-Antifaschistische-Aktion-Regensburg-@afareg
 ensburg-Instagram.png
END:VEVENT
BEGIN:VTIMEZONE
TZID:Europe/Berlin
X-LIC-LOCATION:Europe/Berlin
BEGIN:DAYLIGHT
DTSTART:20230326T030000
TZOFFSETFROM:+0100
TZOFFSETTO:+0200
TZNAME:CEST
END:DAYLIGHT
END:VTIMEZONE
END:VCALENDAR