BEGIN:VCALENDAR
VERSION:2.0
PRODID:-//wp-events-plugin.com//7.2.3.1//EN
TZID:Europe/Berlin
X-WR-TIMEZONE:Europe/Berlin
BEGIN:VEVENT
UID:266@lize.info
DTSTART;TZID=Europe/Berlin:20250625T190000
DTEND;TZID=Europe/Berlin:20250625T220000
DTSTAMP:20250605T105117Z
URL:https://lize.info/events/aktion-t4-euthanasie-verbrechen-im-nationalso
 zialismus/
SUMMARY:Aktion T4 – »Euthanasie«-Verbrechen im Nationalsozialismus
DESCRIPTION:Aktion T4 – »Euthanasie«-Verbrechen im Nationalsozialismus\
 nReferentin: Franka Rößner\n\n📆 Mittwoch\, 25.06.2025\n⏰ Einlass ab
  18:30 // Beginn ab 19:00\n🆓 Der Eintritt ist kostenlos\n🏘️ Lize /
 / Dahlienweg 2a\, 93053 Regensburg\nVerdolmetschung der Veranstaltung in D
 eutsch – DGS\n\nDie NationalsozialistInnen ermordeten in den Jahren 1940
 /1941 über 10.600 Menschen mit geistigen/ Lern-Behinderungen und psychisc
 hen Erkrankungen. Darunter viele Kinder und Jugendliche. Die bayerischen O
 pfer der NS-„Euthanasie“-Verbrechen wurden aus Heil- und Pflegeanstalt
 en\, auch aus Regensburg\, zunächst deportiert und meist noch am selben T
 ag in Gaskammern erstickt.\nWas waren die historischen Hintergründe für 
 dieses industrielle Massenverbrechen? Was waren die Motive der TäterInnen
 ? Wer stimmte zu und wer leistete Widerstand? Wer waren die Opfer?\nIm zwe
 iten Teil des Vortrages geht es um die Gegenwart und um die Zukunft. Das D
 enken\, das zu der Mordaktion führte\, kam nicht erst 1933 in die Welt. E
 s endete aber auch nicht nach 1945. Beschäftigen wir uns mit der Geschich
 te des Nationalsozialismus\, stoßen wir immer auf die Bedeutung individue
 ller Menschenrechte. Denn erst deren Beseitigung zusammen mit ökonomische
 n Kosten-Nutzen-Rechnungen machten die Verbrechen möglich.\nDas Motiv „
 Gegen das Vergessen“ ist auch deshalb wichtig\, um den Opfern wenigstens
  historische Gerechtigkeit widerfahren zu lassen. Jeder einzelne Name steh
 t für ein besonderes Lebensschicksal. Die Menschen waren Bürger*innen di
 eser Stadt.\n\n// Veranstaltungsort: Alle Veranstaltungen der Reihe sind k
 ostenlos und finden in den Räumen des LiZe (Dahlienweg 2a\, 93053 Regensb
 urg) statt. Der Veranstaltungsraum ist barrierearm\, die Toiletten rollstu
 hlgerecht. Für die Vorträge ist keine Anmeldung notwendig.\n\n// Koopera
 tion &amp\; Förderung:\nDie Reihe 2025 findet in Zusammenarbeit mit der D
 GB-Jugend Oberpfalz statt und wird gefördert vom Bundesministerium für F
 amilie\, Senioren\, Frauen und Jugend im Rahmen des Bundesprogramms Demokr
 atie leben!\n\n// Nach Artikel 10 Abs. 1 bayerisches Versammlungsgesetz si
 nd Rechte\, deren SympathisantInnen sowie Personen\, die in der Vergangenh
 eit durch rassistische\, antisemitische\, sexistische\, nationalistische o
 der verschwörungsideologische Äußerungen aufgefallen sind\, von der Ver
 anstaltung ausgeschlossen.
ATTACH;FMTTYPE=image/jpeg:https://lize.info/wp-content/uploads/2025/06/Bil
 dschirmfoto-vom-2025-06-05-09-06-01.png
CATEGORIES:Vortrag
END:VEVENT
BEGIN:VTIMEZONE
TZID:Europe/Berlin
X-LIC-LOCATION:Europe/Berlin
BEGIN:DAYLIGHT
DTSTART:20250330T030000
TZOFFSETFROM:+0100
TZOFFSETTO:+0200
TZNAME:CEST
END:DAYLIGHT
END:VTIMEZONE
END:VCALENDAR