BEGIN:VCALENDAR
VERSION:2.0
PRODID:-//wp-events-plugin.com//7.2.3.1//EN
TZID:Europe/Berlin
X-WR-TIMEZONE:Europe/Berlin
BEGIN:VEVENT
UID:267@lize.info
DTSTART;TZID=Europe/Berlin:20250630T190000
DTEND;TZID=Europe/Berlin:20250630T220000
DTSTAMP:20250617T054743Z
URL:https://lize.info/events/afuera-al-fuego/
SUMMARY:¡Afuera – al fuego!
DESCRIPTION:Ein rechtslibertäres Festival in Regensburg \n\nIm Juli finde
 t in Regensburg das "AFUERA!" Festival statt – es kommen Rechtslibertär
 e\, Kryptoideolog*innen\, hochrangige AFDler*innen und sogenannte Anarchok
 apitalist*innen zusammen.\n\nDoch was macht die Anarchokapitalist*innen so
  eigentümlich antisozial? Warum sind sie keine Anarchist*innen und haben 
 das Adjektiv "libertär" gestohlen? Wieso wäre Max Stirner kein Ankap und
  wie wurde diese Ideologie aus einem gekränkten bürgerlichen Eigentumswa
 hn entwickelt? Und weshalb tragen Anarchist*innen an der Verbreitung des A
 nkap zumindest etwas Mitschuld? – Diese Fragen werden im Input von Jonat
 han Eibisch knapp umrissen.\n\nDanach blicken wir auf die lokalen Akteur*i
 nnen und Strukturen der rechtslibertären Szene in Regensburg und Umgebung
 . Insbesondere widmen wir uns dem oben erwähnten "AFUERA!"-Festival auf S
 chloss Pürkelgut und den dort vertretenen extrem rechten und rechtslibert
 ären Organisationen und Personen. 
ATTACH;FMTTYPE=image/jpeg:https://lize.info/wp-content/uploads/2025/06/p1_
 sm.png
CATEGORIES:Vortrag
END:VEVENT
BEGIN:VTIMEZONE
TZID:Europe/Berlin
X-LIC-LOCATION:Europe/Berlin
BEGIN:DAYLIGHT
DTSTART:20250330T030000
TZOFFSETFROM:+0100
TZOFFSETTO:+0200
TZNAME:CEST
END:DAYLIGHT
END:VTIMEZONE
END:VCALENDAR